{"text_format":"1","workbook":"xlsx","n_sheets":10,"sheets":["Menu","Hinweise zum Ausfüllen","Gesamtprojektkosten","Partner 1","Partner 2","Partner 3","Partner 4","Partner 5","Partner 6","Musterbeispiel"],"not_rendered":{"charts":0,"images":2,"macros":1,"external_links":0,"defined_names":4,"comments":0,"pivot_tables":0},"unopened":[],"bounds":{"document_bytes":16777216,"sheet_cells":100000,"rows_first":2000,"rows_last":500,"rows_between":2000,"halvings":0,"cell_chars":16384,"cell_head_chars":4096},"cells_cut":0,"cells_raw":0,"read":"whole","date_system":"1900"}

{"sheet":"Menu","index":0,"n_rows":5,"n_cols":3,"rows_kept":5,"cut":false,"hidden":true,"merged":[]}
[null,"Menu"]
[]
["Umsatzsteuer","Umsatzsteuersatz","EBI oder TZW"]
["Ja",0.19,"Ja"]
["Nein",7.0000000000000007E-2,"Nein"]

{"sheet":"Hinweise zum Ausfüllen","index":1,"n_rows":0,"n_cols":0,"rows_kept":0,"cut":false,"hidden":false,"merged":[]}

{"sheet":"Gesamtprojektkosten","index":2,"n_rows":18,"n_cols":8,"rows_kept":18,"cut":false,"hidden":false,"merged":[[0,0,0,7]]}
["Gesamtprojektkosten"]
["Partnernummer",1,2,3,4,5,6]
["Partnername",{"$f":"'Partner 1'!C6","v":"Partner 1"},{"$f":"'Partner 2'!B1","v":"Partner 2"},{"$f":"'Partner 3'!B1","v":"Partner 3"},{"$f":"'Partner 4'!B1","v":"Partner 4"},{"$f":"'Partner 5'!B1","v":"Partner 5"},{"$f":"'Partner 6'!B1","v":"Partner 6"},"Summe"]
["Personalkosten",{"$f":"'Partner 1'!B7","v":0},{"$f":"'Partner 2'!B7","v":0},{"$f":"'Partner 3'!B7","v":0},{"$f":"'Partner 4'!B7","v":0},{"$f":"'Partner 5'!B7","v":0},{"$f":"'Partner 6'!B7","v":0},{"$f":"Tabelle2[[#This Row],[DBI]]+Tabelle2[[#This Row],[02]]+Tabelle2[[#This Row],[03]]+Tabelle2[[#This Row],[04]]+Tabelle2[[#This Row],[05]]+Tabelle2[[#This Row],[06]]","v":0}]
["Personenmonate Wiss. MA (PM)",{"$f":"'Partner 1'!B8","v":0},{"$f":"'Partner 2'!B8","v":0},{"$f":"'Partner 3'!B8","v":0},{"$f":"'Partner 4'!B8","v":0},{"$f":"'Partner 5'!B8","v":0},{"$f":"'Partner 6'!B7","v":0},{"$f":"Tabelle2[[#This Row],[DBI]]+Tabelle2[[#This Row],[02]]+Tabelle2[[#This Row],[03]]+Tabelle2[[#This Row],[04]]+Tabelle2[[#This Row],[05]]+Tabelle2[[#This Row],[06]]","v":0}]
["Allgemeinkostenzuschlag Personal (gem.Förderbestimmung)",{"$f":"'Partner 1'!B9","v":0},{"$f":"'Partner 2'!B9","v":0},{"$f":"'Partner 3'!B9","v":0},{"$f":"'Partner 4'!B9","v":0},{"$f":"'Partner 5'!B9","v":0},{"$f":"'Partner 6'!B9","v":0},{"$f":"Tabelle2[[#This Row],[DBI]]+Tabelle2[[#This Row],[02]]+Tabelle2[[#This Row],[03]]+Tabelle2[[#This Row],[04]]+Tabelle2[[#This Row],[05]]+Tabelle2[[#This Row],[06]]","v":0}]
["Sachkosten",{"$f":"'Partner 1'!B10","v":0},{"$f":"'Partner 2'!B10","v":0},{"$f":"'Partner 3'!B10","v":0},{"$f":"'Partner 4'!B10","v":0},{"$f":"'Partner 5'!B10","v":0},{"$f":"'Partner 6'!B10","v":0},{"$f":"Tabelle2[[#This Row],[DBI]]+Tabelle2[[#This Row],[02]]+Tabelle2[[#This Row],[03]]+Tabelle2[[#This Row],[04]]+Tabelle2[[#This Row],[05]]+Tabelle2[[#This Row],[06]]","v":0}]
["Reisekosten",{"$f":"'Partner 1'!B11","v":0},{"$f":"'Partner 2'!B11","v":0},{"$f":"'Partner 3'!B11","v":0},{"$f":"'Partner 1'!E11","v":0},{"$f":"'Partner 5'!B11","v":0},{"$f":"'Partner 6'!B11","v":0},{"$f":"Tabelle2[[#This Row],[DBI]]+Tabelle2[[#This Row],[02]]+Tabelle2[[#This Row],[03]]+Tabelle2[[#This Row],[04]]+Tabelle2[[#This Row],[05]]+Tabelle2[[#This Row],[06]]","v":0}]
["Fremdleistungen",{"$f":"'Partner 1'!B12","v":0},{"$f":"'Partner 2'!B12","v":0},{"$f":"'Partner 3'!B12","v":0},{"$f":"'Partner 4'!B12","v":0},{"$f":"'Partner 5'!B12","v":0},{"$f":"'Partner 6'!B12","v":0},{"$f":"Tabelle2[[#This Row],[DBI]]+Tabelle2[[#This Row],[02]]+Tabelle2[[#This Row],[03]]+Tabelle2[[#This Row],[04]]+Tabelle2[[#This Row],[05]]+Tabelle2[[#This Row],[06]]","v":0}]
["Sonstige Kosten",{"$f":"'Partner 1'!B13","v":0},{"$f":"'Partner 2'!B13","v":0},{"$f":"'Partner 3'!B14","v":0},{"$f":"'Partner 1'!E13","v":0},{"$f":"'Partner 5'!B13","v":0},{"$f":"'Partner 6'!B13","v":0},{"$f":"Tabelle2[[#This Row],[DBI]]+Tabelle2[[#This Row],[02]]+Tabelle2[[#This Row],[03]]+Tabelle2[[#This Row],[04]]+Tabelle2[[#This Row],[05]]+Tabelle2[[#This Row],[06]]","v":0}]
["Gesamtkosten netto",{"$f":"'Partner 1'!B14","v":0},{"$f":"'Partner 2'!B14","v":0},{"$f":"'Partner 1'!D14","v":0},{"$f":"'Partner 4'!B14","v":0},{"$f":"'Partner 5'!B14","v":0},{"$f":"'Partner 6'!B14","v":0},{"$f":"Tabelle2[[#This Row],[DBI]]+Tabelle2[[#This Row],[02]]+Tabelle2[[#This Row],[03]]+Tabelle2[[#This Row],[04]]+Tabelle2[[#This Row],[05]]+Tabelle2[[#This Row],[06]]","v":0}]
["Umsatzsteuer",{"$f":"'Partner 1'!B15","v":0},{"$f":"'Partner 2'!B15","v":0},{"$f":"'Partner 3'!B15","v":0},{"$f":"'Partner 4'!B15","v":0},{"$f":"'Partner 5'!B15","v":0},{"$f":"'Partner 6'!B15","v":0},{"$f":"Tabelle2[[#This Row],[DBI]]+Tabelle2[[#This Row],[02]]+Tabelle2[[#This Row],[03]]+Tabelle2[[#This Row],[04]]+Tabelle2[[#This Row],[05]]+Tabelle2[[#This Row],[06]]","v":0}]
["Gesamtkosten brutto",{"$f":"'Partner 1'!B16","v":0},{"$f":"'Partner 2'!B16","v":0},{"$f":"'Partner 3'!B16","v":0},{"$f":"'Partner 4'!B16","v":0},{"$f":"'Partner 5'!B16","v":0},{"$f":"'Partner 6'!B16","v":0},{"$f":"Tabelle2[[#This Row],[DBI]]+Tabelle2[[#This Row],[02]]+Tabelle2[[#This Row],[03]]+Tabelle2[[#This Row],[04]]+Tabelle2[[#This Row],[05]]+Tabelle2[[#This Row],[06]]","v":0}]
[]
["Drittmittel \n(öffentliche Zuwendung)",{"$f":"'Partner 1'!B18","v":0},{"$f":"'Partner 2'!B18","v":0},{"$f":"'Partner 3'!B18","v":0},{"$f":"'Partner 4'!B18","v":0},{"$f":"'Partner 5'!B18","v":0},{"$f":"'Partner 6'!B18","v":0},{"$f":"SUM(B15:G15)","v":0}]
["Eigenanteil \n(Forschungsnehmer)",{"$f":"'Partner 1'!B19","v":0},{"$f":"'Partner 2'!B19","v":0},{"$f":"'Partner 3'!B19","v":0},{"$f":"'Partner 4'!B19","v":0},{"$f":"'Partner 5'!B19","v":0},{"$f":"'Partner 6'!B19","v":0},{"$f":"SUM(B16:G16)","v":0}]
["finanzielle Beteiligung \n(Industrie/ Verbände/Versorger)",{"$f":"'Partner 1'!B20","v":0},{"$f":"'Partner 2'!B20","v":0},{"$f":"'Partner 3'!B20","v":0},{"$f":"'Partner 4'!B20","v":0},{"$f":"'Partner 5'!B20","v":0},{"$f":"'Partner 6'!B20","v":0},{"$f":"SUM(B17:G17)","v":0}]
["DVGW-Förderung",{"$f":"'Partner 1'!B21","v":0},{"$f":"'Partner 2'!B21","v":0},{"$f":"'Partner 3'!B21","v":0},{"$f":"'Partner 4'!B21","v":0},{"$f":"'Partner 5'!B21","v":0},{"$f":"'Partner 6'!B21","v":0},{"$f":"SUM(B18:G18)","v":0}]

{"sheet":"Partner 1","index":3,"n_rows":120,"n_cols":13,"rows_kept":120,"cut":false,"hidden":false,"merged":[[0,6,0,8],[1,6,1,8],[2,6,2,8],[3,6,3,8],[113,3,113,6],[108,3,108,6],[109,3,109,6],[110,3,110,6],[111,3,111,6],[112,3,112,6],[33,3,33,12],[5,2,5,12],[7,3,20,12],[6,3,6,12],[102,0,102,2],[103,0,103,2],[107,3,107,6],[106,0,106,6],[96,0,96,2],[97,0,97,2],[98,0,98,2],[101,0,101,2],[5,0,5,1],[90,0,90,1],[91,0,91,1],[92,0,92,1],[84,0,84,1],[85,0,85,1],[86,0,86,1],[87,0,87,1],[88,0,88,1],[89,0,89,1],[76,0,76,1],[77,0,77,1],[82,0,83,1],[66,0,66,12],[67,2,68,2],[67,3,67,12],[82,2,83,2],[70,0,70,1],[71,0,71,1],[72,0,72,1],[73,0,73,1],[74,0,74,1],[75,0,75,1],[69,0,69,1],[67,0,68,1],[46,0,46,1],[47,0,47,1],[51,0,51,12],[52,2,53,2],[52,3,52,12],[45,0,45,1],[36,0,36,12],[37,2,38,2],[37,3,37,12],[39,0,39,1],[40,0,40,1],[41,0,41,1],[42,0,42,1],[43,0,43,1],[44,0,44,1],[24,1,25,1],[24,2,25,2],[24,3,24,12],[24,0,25,0],[23,0,23,12]]}
["Projektpartner 1","Partner 1",null,null,null,null,"Umsatzsteuerpflichtig*",null,null,null,"*verpflichtend, bitte auswählen"]
[null,null,null,null,null,null,"Umsatzsteuersatz*"]
[null,null,null,null,null,null,"EBI oder TZW?*"]
[null,null,null,null,null,null,"Allgemeinkostenzuschlag \nPersonal (in %)",null,null,null,"gem. Förderbestimmungen"]
[]
["Einzelkostensplan:",null,{"$f":"B1","v":"Partner 1"}]
["Personalkosten",{"$f":"C34","v":0},null,"Erläuterung zum Einzelkostenplan:"]
["Personenmonate \n(PM Wiss. MA)",{"$f":"D27+E27+F27+G27+H27+I27+J27+K27+L27+M27+D28+E28+F28+G28+H28+I28+J28+K28+L28+M28","v":0}]
["Allgemeinkostenzuschlag Personal (gem. Förderbestimmung)",{"$f":"B7*J4/100","v":0}]
["Sachkosten",{"$f":"C49","v":0}]
["Reisekosten",{"$f":"C94","v":0}]
["Fremdleistungen",{"$f":"C64","v":0}]
["Sonstige Kosten",{"$f":"C79","v":0}]
["Gesamtkosten netto",{"$f":"B7+B9+B10+B11+B12+B13","v":0}]
["Umsatzsteuer",{"$f":"B14*J2","v":0}]
["Gesamtkosten brutto",{"$f":"B14+B15","v":0}]
[]
["Drittmittel \n(öffentliche Zuwendung)",{"$f":"C100*-1","v":0}]
["Eigenanteil \n(Forschungsnehmer)",{"$f":"C105*-1","v":0}]
["finanzielle Beteiligung \n(Industrie/ Verbände/ Versorger)",{"$f":"C115*-1","v":0}]
["DVGW-Förderung",{"$f":"B16+B18+B19+B20","v":0}]
[]
[]
["Personalkosten"]
["Personengruppe \n(m/w/d)","Arbeitsgeberbrutto \n(Monat) **","Summe \nPersonalkosten","  Personenmonate"]
[null,null,null,"AP 1","AP 2","AP 3","AP 4","AP 5","AP 6","AP 7","AP 8","AP 9","AP 10"]
["Wissenschaftler MA\nProjektmanager/-leiter",null,{"$f":"B27* (D27+E27+F27+G27+H27+I27+J27+K27+L27+M27)","v":0}]
["Wissenschaftler*in",null,0]
["Techniker*in",null,0]
["Laborant*in",null,0]
["Hilfskraft",null,{"$f":"B31* (D31+E31+F31+G31+H31+I31+J31+K31+L31+M31)","v":0}]
["Personengruppe",null,0]
["Personengruppe",null,0]
["Summe Personalkosten:",null,{"$f":"C27+C28+C29+C30+C31+C32+C33","v":0},"** siehe Hinweise zum Ausfüllen"]
[]
[]
["Sachkosten"]
["Sachmittel ",null,"Summe \nSachkosten","  Personenmoate"]
[null,null,null,"AP 1","AP 2","AP 3","AP 4","AP 5","AP 6","AP 7","AP 8","AP 9","AP 10"]
["Sachmittel (bitte benennen)",null,{"$f":"D40+E40+F40+G40+H40+I40+J40+K40+L40+M40","v":0},0,0,0,0,0,0,0,0,0,0]
["Sachmittel (bitte benennen)",null,0,0,0,0,0,0,0,0,0,0,0]
["Sachmittel (bitte benennen)",null,0,0,0,0,0,0,0,0,0,0,0]
["Sachmittel (bitte benennen)",null,0,0,0,0,0,0,0,0,0,0,0]
["Sachmittel (bitte benennen)",null,0,0,0,0,0,0,0,0,0,0,0]
["Sachmittel (bitte benennen)",null,0,0,0,0,0,0,0,0,0,0,0]
["Sachmittel (bitte benennen)",null,0,0,0,0,0,0,0,0,0,0,0]
["Sachmittel (bitte benennen)",null,0,0,0,0,0,0,0,0,0,0,0]
["Sachmittel (bitte benennen)",null,0,0,0,0,0,0,0,0,0,0,0]
["Summe Sachkosten:",null,{"$f":"C40+C41+C42+C43+C44+C45+C46+C47+C48","v":0}]
[]
[]
["Unterauftrag"]
["Unterauftragsnehmer","Art der Dienstleitung","Summe \nUnterauftrag"]
[null,null,null,"AP 1","AP 2","AP 3","AP 4","AP 5","AP 6","AP 7","AP 8","AP 9","AP 10"]
["(bitte benennen)","(bitte benennen)",{"$f":"D55+E55+F55+G55+H55+I55+J55+K55+L55+M55","v":0},0,0,0,0,0,0,0,0,0,0]
["(bitte benennen)","(bitte benennen)",{"$f":"D56+E56+F56+G56+H56+I56+J56+K56+L56+M56","v":0},0,0,0,0,0,0,0,0,0,0]
["(bitte benennen)","(bitte benennen)",0,0,0,0,0,0,0,0,0,0,0]
["(bitte benennen)","(bitte benennen)",0,0,0,0,0,0,0,0,0,0,0]
["(bitte benennen)","(bitte benennen)",0,0,0,0,0,0,0,0,0,0,0]
["(bitte benennen)","(bitte benennen)",0,0,0,0,0,0,0,0,0,0,0]
["(bitte benennen)","(bitte benennen)",0,0,0,0,0,0,0,0,0,0,0]
["(bitte benennen)","(bitte benennen)",0,0,0,0,0,0,0,0,0,0,0]
["(bitte benennen)","(bitte benennen)",0,0,0,0,0,0,0,0,0,0,0]
["Summe Unterauftrag:",null,{"$f":"C55+C56+C57+C58+C59+C60+C61+C62+C63","v":0}]
[]
[]
["Sonstige Kosten"]
[null,null,"Summe \nSonstige Kosten"]
[null,null,null,"AP 1","AP 2","AP 3","AP 4","AP 5","AP 6","AP 7","AP 8","AP 9","AP 10"]
["(bitte benennen)",null,{"$f":"D70+E70+F70+G70+H70+I70+J70+K70+L70+M70","v":0},0,0,0,0,0,0,0,0,0,0]
["(bitte benennen)",null,{"$f":"D71+E71+F71+G71+H71+I71+J71+K71+L71+M71","v":0},0,0,0,0,0,0,0,0,0,0]
["(bitte benennen)",null,0,0,0,0,0,0,0,0,0,0,0]
["(bitte benennen)",null,0,0,0,0,0,0,0,0,0,0,0]
["(bitte benennen)",null,0,0,0,0,0,0,0,0,0,0,0]
["(bitte benennen)",null,0,0,0,0,0,0,0,0,0,0,0]
["(bitte benennen)",null,0,0,0,0,0,0,0,0,0,0,0]
["(bitte benennen)",null,0,0,0,0,0,0,0,0,0,0,0]
["(bitte benennen)",null,0,0,0,0,0,0,0,0,0,0,0]
["Summe Sonstige Kosten:",null,{"$f":"C70+C71+C72+C73+C74+C75+C76+C77+C78","v":0}]
[]
[]
["Reisekosten"]
[null,null,"€"]
[]
["(bitte benennen)",null,0]
["(bitte benennen)",null,0]
["(bitte benennen)",null,0]
["(bitte benennen)",null,0]
["(bitte benennen)",null,0]
["(bitte benennen)",null,0]
["(bitte benennen)",null,0]
["(bitte benennen)",null,0]
["(bitte benennen)",null,0]
["Summe Reisekosten:",null,{"$f":"C85+C86+C87+C88+C89+C90+C91+C92+C93","v":0}]
[]
[]
["Drittmittel (öffentliche Zuwendung)"]
["Beschreibung "]
[]
["Betrag gem. Zuwendungsbescheid",null,0]
[]
["Eigenleistung (Forschungsnehmer)"]
["Beschreibung "]
[]
["Betrag Eigenleistung",null,0]
[]
["finanzielle Beteiligung (Industrie/Verbände/Versorger)"]
["Art","Unterstützer","€","Beschreibung"]
["Art der Beteiligung"]
["Art der Beteiligung"]
["Art der Beteiligung"]
["Art der Beteiligung"]
["Art der Beteiligung"]
["Art der Beteiligung"]
["Betrag Eigenleistung",null,{"$f":"C109+C110+C111+C112+C113+C114","v":0}]
[]
["Art der Beteiligung"]
["Geldleistung"]
["Sachmittel"]
["Dienstleistung"]

{"sheet":"Partner 2","index":4,"n_rows":120,"n_cols":13,"rows_kept":120,"cut":false,"hidden":false,"merged":[[23,0,23,12],[24,0,25,0],[0,6,0,8],[1,6,1,8],[2,6,2,8],[3,6,3,8],[5,0,5,1],[24,1,25,1],[24,2,25,2],[24,3,24,12],[33,3,33,12],[36,0,36,12],[37,2,38,2],[37,3,37,12],[39,0,39,1],[40,0,40,1],[41,0,41,1],[42,0,42,1],[43,0,43,1],[44,0,44,1],[45,0,45,1],[46,0,46,1],[47,0,47,1],[51,0,51,12],[52,2,53,2],[52,3,52,12],[66,0,66,12],[67,0,68,1],[67,2,68,2],[67,3,67,12],[69,0,69,1],[70,0,70,1],[71,0,71,1],[72,0,72,1],[73,0,73,1],[74,0,74,1],[75,0,75,1],[76,0,76,1],[77,0,77,1],[82,0,83,1],[82,2,83,2],[84,0,84,1],[91,0,91,1],[92,0,92,1],[96,0,96,2],[97,0,97,2],[85,0,85,1],[86,0,86,1],[87,0,87,1],[88,0,88,1],[89,0,89,1],[112,3,112,6],[113,3,113,6],[5,2,5,12],[6,3,6,12],[7,3,20,12],[107,3,107,6],[108,3,108,6],[109,3,109,6],[110,3,110,6],[111,3,111,6],[98,0,98,2],[101,0,101,2],[102,0,102,2],[103,0,103,2],[106,0,106,6],[90,0,90,1]]}
["Projektpartner 2","Partner 2",null,null,null,null,"Umsatzsteuerpflichtig*",null,null,null,"*verpflichtend, bitte auswählen"]
[null,null,null,null,null,null,"Umsatzsteuersatz*"]
[null,null,null,null,null,null,"EBI oder TZW?*"]
[null,null,null,null,null,null,"Allgemeinkostenzuschlag \nPersonal (in %)",null,null,null,"gem. Förderbestimmungen"]
[]
["Einzelkostensplan:",null,{"$f":"B1","v":"Partner 2"}]
["Personalkosten",{"$f":"C34","v":0},null,"Erläuterung zum Einzelkostenplan:"]
["Personenmonate \n(PM Wiss. MA)",{"$f":"D27+E27+F27+G27+H27+I27+J27+K27+L27+M27+D28+E28+F28+G28+H28+I28+J28+K28+L28+M28","v":0}]
["Allgemeinkostenzuschlag Personal (gem. Förderbestimmung)",{"$f":"B7*J4/100","v":0}]
["Sachkosten",{"$f":"C49","v":0}]
["Reisekosten",{"$f":"C94","v":0}]
["Fremdleistungen",{"$f":"C64","v":0}]
["Sonstige Kosten",{"$f":"C79","v":0}]
["Gesamtkosten netto",{"$f":"B7+B9+B10+B11+B12+B13","v":0}]
["Umsatzsteuer",{"$f":"B14*J2","v":0}]
["Gesamtkosten brutto",{"$f":"B14+B15","v":0}]
[]
["Drittmittel \n(öffentliche Zuwendung)",{"$f":"C100*-1","v":0}]
["Eigenanteil \n(Forschungsnehmer)",{"$f":"C105*-1","v":0}]
["finanzielle Beteiligung \n(Industrie/ Verbände/ Versorger)",{"$f":"C115*-1","v":0}]
["DVGW-Förderung",{"$f":"B16+B18+B19+B20","v":0}]
[]
[]
["Personalkosten"]
["Personengruppe \n(m/w/d)","Arbeitsgeberbrutto \n(Monat) **","Summe \nPersonalkosten","  Personenmonate"]
[null,null,null,"AP 1","AP 2","AP 3","AP 4","AP 5","AP 6","AP 7","AP 8","AP 9","AP 10"]
["Wissenschaftler MA\nProjektmanager/-leiter",null,{"$f":"B27* (D27+E27+F27+G27+H27+I27+J27+K27+L27+M27)","v":0}]
["Wissenschaftler*in",null,0]
["Techniker*in",null,0]
["Laborant*in",null,0]
["Hilfskraft",null,0]
["Personengruppe",null,0]
["Personengruppe",null,0]
["Summe Personalkosten:",null,{"$f":"C27+C28+C29+C30+C31+C32+C33","v":0},"** siehe Hinweise zum Ausfüllen"]
[]
[]
["Sachkosten"]
["Sachmittel ",null,"Summe \nSachkosten","  Personenmoate"]
[null,null,null,"AP 1","AP 2","AP 3","AP 4","AP 5","AP 6","AP 7","AP 8","AP 9","AP 10"]
["Sachmittel (bitte benennen)",null,{"$f":"D40+E40+F40+G40+H40+I40+J40+K40+L40+M40","v":0},0,0,0,0,0,0,0,0,0,0]
["Sachmittel (bitte benennen)",null,0,0,0,0,0,0,0,0,0,0,0]
["Sachmittel (bitte benennen)",null,0,0,0,0,0,0,0,0,0,0,0]
["Sachmittel (bitte benennen)",null,0,0,0,0,0,0,0,0,0,0,0]
["Sachmittel (bitte benennen)",null,0,0,0,0,0,0,0,0,0,0,0]
["Sachmittel (bitte benennen)",null,0,0,0,0,0,0,0,0,0,0,0]
["Sachmittel (bitte benennen)",null,0,0,0,0,0,0,0,0,0,0,0]
["Sachmittel (bitte benennen)",null,0,0,0,0,0,0,0,0,0,0,0]
["Sachmittel (bitte benennen)",null,0,0,0,0,0,0,0,0,0,0,0]
["Summe Sachkosten:",null,{"$f":"C40+C41+C42+C43+C44+C45+C46+C47+C48","v":0}]
[]
[]
["Unterauftrag"]
["Unterauftragsnehmer","Art der Dienstleitung","Summe \nUnterauftrag"]
[null,null,null,"AP 1","AP 2","AP 3","AP 4","AP 5","AP 6","AP 7","AP 8","AP 9","AP 10"]
["(bitte benennen)","(bitte benennen)",{"$f":"D55+E55+F55+G55+H55+I55+J55+K55+L55+M55","v":0},0,0,0,0,0,0,0,0,0,0]
["(bitte benennen)","(bitte benennen)",0,0,0,0,0,0,0,0,0,0,0]
["(bitte benennen)","(bitte benennen)",0,0,0,0,0,0,0,0,0,0,0]
["(bitte benennen)","(bitte benennen)",0,0,0,0,0,0,0,0,0,0,0]
["(bitte benennen)","(bitte benennen)",0,0,0,0,0,0,0,0,0,0,0]
["(bitte benennen)","(bitte benennen)",0,0,0,0,0,0,0,0,0,0,0]
["(bitte benennen)","(bitte benennen)",0,0,0,0,0,0,0,0,0,0,0]
["(bitte benennen)","(bitte benennen)",0,0,0,0,0,0,0,0,0,0,0]
["(bitte benennen)","(bitte benennen)",0,0,0,0,0,0,0,0,0,0,0]
["Summe Unterauftrag:",null,{"$f":"C55+C56+C57+C58+C59+C60+C61+C62+C63","v":0}]
[]
[]
["Sonstige Kosten"]
[null,null,"Summe \nSonstige Kosten"]
[null,null,null,"AP 1","AP 2","AP 3","AP 4","AP 5","AP 6","AP 7","AP 8","AP 9","AP 10"]
["(bitte benennen)",null,{"$f":"D70+E70+F70+G70+H70+I70+J70+K70+L70+M70","v":0},0,0,0,0,0,0,0,0,0,0]
["(bitte benennen)",null,{"$f":"D71+E71+F71+G71+H71+I71+J71+K71+L71+M71","v":0},0,0,0,0,0,0,0,0,0,0]
["(bitte benennen)",null,0,0,0,0,0,0,0,0,0,0,0]
["(bitte benennen)",null,0,0,0,0,0,0,0,0,0,0,0]
["(bitte benennen)",null,0,0,0,0,0,0,0,0,0,0,0]
["(bitte benennen)",null,0,0,0,0,0,0,0,0,0,0,0]
["(bitte benennen)",null,0,0,0,0,0,0,0,0,0,0,0]
["(bitte benennen)",null,0,0,0,0,0,0,0,0,0,0,0]
["(bitte benennen)",null,0,0,0,0,0,0,0,0,0,0,0]
["Summe Sonstige Kosten:",null,{"$f":"C70+C71+C72+C73+C74+C75+C76+C77+C78","v":0}]
[]
[]
["Reisekosten"]
[null,null,"€"]
[]
["(bitte benennen)",null,0]
["(bitte benennen)",null,0]
["(bitte benennen)",null,0]
["(bitte benennen)",null,0]
["(bitte benennen)",null,0]
["(bitte benennen)",null,0]
["(bitte benennen)",null,0]
["(bitte benennen)",null,0]
["(bitte benennen)",null,0]
["Summe Reisekosten:",null,{"$f":"C85+C86+C87+C88+C89+C90+C91+C92+C93","v":0}]
[]
[]
["Drittmittel (öffentliche Zuwendung)"]
["Beschreibung "]
[]
["Betrag gem. Zuwendungsbescheid",null,0]
[]
["Eigenleistung (Forschungsnehmer)"]
["Beschreibung "]
[]
["Betrag Eigenleistung",null,0]
[]
["finanzielle Beteiligung (Industrie/Verbände/Versorger)"]
["Art","Unterstützer","€","Beschreibung"]
["Art der Beteiligung"]
["Art der Beteiligung"]
["Art der Beteiligung"]
["Art der Beteiligung"]
["Art der Beteiligung"]
["Art der Beteiligung"]
["Betrag Eigenleistung",null,{"$f":"C109+C110+C111+C112+C113+C114","v":0}]
[]
["Art der Beteiligung"]
["Geldleistung"]
["Sachmittel"]
["Dienstleistung"]

{"sheet":"Partner 3","index":5,"n_rows":120,"n_cols":13,"rows_kept":120,"cut":false,"hidden":false,"merged":[[0,6,0,8],[1,6,1,8],[2,6,2,8],[3,6,3,8],[5,0,5,1],[5,2,5,12],[24,1,25,1],[24,2,25,2],[24,3,24,12],[33,3,33,12],[36,0,36,12],[24,0,25,0],[37,2,38,2],[37,3,37,12],[39,0,39,1],[40,0,40,1],[41,0,41,1],[42,0,42,1],[43,0,43,1],[44,0,44,1],[45,0,45,1],[46,0,46,1],[47,0,47,1],[51,0,51,12],[52,2,53,2],[52,3,52,12],[66,0,66,12],[67,0,68,1],[67,2,68,2],[67,3,67,12],[69,0,69,1],[70,0,70,1],[71,0,71,1],[72,0,72,1],[73,0,73,1],[74,0,74,1],[75,0,75,1],[76,0,76,1],[77,0,77,1],[82,0,83,1],[82,2,83,2],[84,0,84,1],[91,0,91,1],[92,0,92,1],[96,0,96,2],[97,0,97,2],[85,0,85,1],[86,0,86,1],[87,0,87,1],[88,0,88,1],[89,0,89,1],[112,3,112,6],[113,3,113,6],[6,3,6,12],[7,3,20,12],[107,3,107,6],[108,3,108,6],[109,3,109,6],[110,3,110,6],[111,3,111,6],[23,0,23,12],[98,0,98,2],[101,0,101,2],[102,0,102,2],[103,0,103,2],[106,0,106,6],[90,0,90,1]]}
["Projektpartner 3","Partner 3",null,null,null,null,"Umsatzsteuerpflichtig*",null,null,null,"*verpflichtend, bitte auswählen"]
[null,null,null,null,null,null,"Umsatzsteuersatz*"]
[null,null,null,null,null,null,"EBI oder TZW?*"]
[null,null,null,null,null,null,"Allgemeinkostenzuschlag \nPersonal (in %)",null,null,20,"gem. Förderbestimmungen"]
[]
["Einzelkostensplan:",null,{"$f":"B1","v":"Partner 3"}]
["Personalkosten",{"$f":"C34","v":0},null,"Erläuterung zum Einzelkostenplan:"]
["Personenmonate \n(PM Wiss. MA)",{"$f":"D27+E27+F27+G27+H27+I27+J27+K27+L27+M27+D28+E28+F28+G28+H28+I28+J28+K28+L28+M28","v":0}]
["Allgemeinkostenzuschlag Personal (gem. Förderbestimmung)",{"$f":"B7*J4/100","v":0}]
["Sachkosten",{"$f":"C49","v":0}]
["Reisekosten",{"$f":"C94","v":0}]
["Fremdleistungen",{"$f":"C64","v":0}]
["Sonstige Kosten",{"$f":"C79","v":0}]
["Gesamtkosten netto",{"$f":"B7+B9+B10+B11+B12+B13","v":0}]
["Umsatzsteuer",{"$f":"B14*J2","v":0}]
["Gesamtkosten brutto",{"$f":"B14+B15","v":0}]
[]
["Drittmittel \n(öffentliche Zuwendung)",{"$f":"C100*-1","v":0}]
["Eigenanteil \n(Forschungsnehmer)",{"$f":"C105*-1","v":0}]
["finanzielle Beteiligung \n(Industrie/ Verbände/ Versorger)",{"$f":"C115*-1","v":0}]
["DVGW-Förderung",{"$f":"B16+B18+B19+B20","v":0}]
[]
[]
["Personalkosten"]
["Personengruppe \n(m/w/d)","Arbeitsgeberbrutto \n(Monat) **","Summe \nPersonalkosten","  Personenmonate"]
[null,null,null,"AP 1","AP 2","AP 3","AP 4","AP 5","AP 6","AP 7","AP 8","AP 9","AP 10"]
["Wissenschaftler MA\nProjektmanager/-leiter",null,{"$f":"B27* (D27+E27+F27+G27+H27+I27+J27+K27+L27+M27)","v":0}]
["Wissenschaftler*in",null,0]
["Techniker*in",null,0]
["Laborant*in",null,0]
["Hilfskraft",null,0]
["Personengruppe",null,0]
["Personengruppe",null,0]
["Summe Personalkosten:",null,{"$f":"C27+C28+C29+C30+C31+C32+C33","v":0},"** siehe Hinweise zum Ausfüllen"]
[]
[]
["Sachkosten"]
["Sachmittel ",null,"Summe \nSachkosten","  Personenmoate"]
[null,null,null,"AP 1","AP 2","AP 3","AP 4","AP 5","AP 6","AP 7","AP 8","AP 9","AP 10"]
["Sachmittel (bitte benennen)",null,{"$f":"D40+E40+F40+G40+H40+I40+J40+K40+L40+M40","v":0},0,0,0,0,0,0,0,0,0,0]
["Sachmittel (bitte benennen)",null,0,0,0,0,0,0,0,0,0,0,0]
["Sachmittel (bitte benennen)",null,0,0,0,0,0,0,0,0,0,0,0]
["Sachmittel (bitte benennen)",null,0,0,0,0,0,0,0,0,0,0,0]
["Sachmittel (bitte benennen)",null,0,0,0,0,0,0,0,0,0,0,0]
["Sachmittel (bitte benennen)",null,0,0,0,0,0,0,0,0,0,0,0]
["Sachmittel (bitte benennen)",null,0,0,0,0,0,0,0,0,0,0,0]
["Sachmittel (bitte benennen)",null,0,0,0,0,0,0,0,0,0,0,0]
["Sachmittel (bitte benennen)",null,0,0,0,0,0,0,0,0,0,0,0]
["Summe Sachkosten:",null,{"$f":"C40+C41+C42+C43+C44+C45+C46+C47+C48","v":0}]
[]
[]
["Unterauftrag"]
["Unterauftragsnehmer","Art der Dienstleitung","Summe \nUnterauftrag"]
[null,null,null,"AP 1","AP 2","AP 3","AP 4","AP 5","AP 6","AP 7","AP 8","AP 9","AP 10"]
["(bitte benennen)","(bitte benennen)",{"$f":"D55+E55+F55+G55+H55+I55+J55+K55+L55+M55","v":0},0,0,0,0,0,0,0,0,0,0]
["(bitte benennen)","(bitte benennen)",0,0,0,0,0,0,0,0,0,0,0]
["(bitte benennen)","(bitte benennen)",0,0,0,0,0,0,0,0,0,0,0]
["(bitte benennen)","(bitte benennen)",0,0,0,0,0,0,0,0,0,0,0]
["(bitte benennen)","(bitte benennen)",0,0,0,0,0,0,0,0,0,0,0]
["(bitte benennen)","(bitte benennen)",0,0,0,0,0,0,0,0,0,0,0]
["(bitte benennen)","(bitte benennen)",0,0,0,0,0,0,0,0,0,0,0]
["(bitte benennen)","(bitte benennen)",0,0,0,0,0,0,0,0,0,0,0]
["(bitte benennen)","(bitte benennen)",0,0,0,0,0,0,0,0,0,0,0]
["Summe Unterauftrag:",null,{"$f":"C55+C56+C57+C58+C59+C60+C61+C62+C63","v":0}]
[]
[]
["Sonstige Kosten"]
[null,null,"Summe \nSonstige Kosten"]
[null,null,null,"AP 1","AP 2","AP 3","AP 4","AP 5","AP 6","AP 7","AP 8","AP 9","AP 10"]
["(bitte benennen)",null,{"$f":"D70+E70+F70+G70+H70+I70+J70+K70+L70+M70","v":0},0,0,0,0,0,0,0,0,0,0]
["(bitte benennen)",null,{"$f":"D71+E71+F71+G71+H71+I71+J71+K71+L71+M71","v":0},0,0,0,0,0,0,0,0,0,0]
["(bitte benennen)",null,0,0,0,0,0,0,0,0,0,0,0]
["(bitte benennen)",null,0,0,0,0,0,0,0,0,0,0,0]
["(bitte benennen)",null,0,0,0,0,0,0,0,0,0,0,0]
["(bitte benennen)",null,0,0,0,0,0,0,0,0,0,0,0]
["(bitte benennen)",null,0,0,0,0,0,0,0,0,0,0,0]
["(bitte benennen)",null,0,0,0,0,0,0,0,0,0,0,0]
["(bitte benennen)",null,0,0,0,0,0,0,0,0,0,0,0]
["Summe Sonstige Kosten:",null,{"$f":"C70+C71+C72+C73+C74+C75+C76+C77+C78","v":0}]
[]
[]
["Reisekosten"]
[null,null,"€"]
[]
["(bitte benennen)",null,0]
["(bitte benennen)",null,0]
["(bitte benennen)",null,0]
["(bitte benennen)",null,0]
["(bitte benennen)",null,0]
["(bitte benennen)",null,0]
["(bitte benennen)",null,0]
["(bitte benennen)",null,0]
["(bitte benennen)",null,0]
["Summe Reisekosten:",null,{"$f":"C85+C86+C87+C88+C89+C90+C91+C92+C93","v":0}]
[]
[]
["Drittmittel (öffentliche Zuwendung)"]
["Beschreibung "]
[]
["Betrag gem. Zuwendungsbescheid",null,0]
[]
["Eigenleistung (Forschungsnehmer)"]
["Beschreibung "]
[]
["Betrag Eigenleistung",null,0]
[]
["finanzielle Beteiligung (Industrie/Verbände/Versorger)"]
["Art","Unterstützer","€","Beschreibung"]
["Art der Beteiligung"]
["Art der Beteiligung"]
["Art der Beteiligung"]
["Art der Beteiligung"]
["Art der Beteiligung"]
["Art der Beteiligung"]
["Betrag Eigenleistung",null,{"$f":"C109+C110+C111+C112+C113+C114","v":0}]
[]
["Art der Beteiligung"]
["Geldleistung"]
["Sachmittel"]
["Dienstleistung"]

{"sheet":"Partner 4","index":6,"n_rows":120,"n_cols":13,"rows_kept":120,"cut":false,"hidden":false,"merged":[[0,6,0,8],[1,6,1,8],[2,6,2,8],[3,6,3,8],[5,0,5,1],[5,2,5,12],[24,1,25,1],[24,2,25,2],[24,3,24,12],[33,3,33,12],[36,0,36,12],[24,0,25,0],[37,2,38,2],[37,3,37,12],[39,0,39,1],[40,0,40,1],[41,0,41,1],[42,0,42,1],[43,0,43,1],[44,0,44,1],[45,0,45,1],[46,0,46,1],[47,0,47,1],[51,0,51,12],[52,2,53,2],[52,3,52,12],[66,0,66,12],[67,0,68,1],[67,2,68,2],[67,3,67,12],[69,0,69,1],[70,0,70,1],[71,0,71,1],[72,0,72,1],[73,0,73,1],[74,0,74,1],[75,0,75,1],[76,0,76,1],[77,0,77,1],[82,0,83,1],[82,2,83,2],[84,0,84,1],[91,0,91,1],[92,0,92,1],[96,0,96,2],[97,0,97,2],[85,0,85,1],[86,0,86,1],[87,0,87,1],[88,0,88,1],[89,0,89,1],[112,3,112,6],[113,3,113,6],[6,3,6,12],[7,3,20,12],[107,3,107,6],[108,3,108,6],[109,3,109,6],[110,3,110,6],[111,3,111,6],[23,0,23,12],[98,0,98,2],[101,0,101,2],[102,0,102,2],[103,0,103,2],[106,0,106,6],[90,0,90,1]]}
["Projektpartner 4","Partner 4",null,null,null,null,"Umsatzsteuerpflichtig*",null,null,null,"*verpflichtend, bitte auswählen"]
[null,null,null,null,null,null,"Umsatzsteuersatz*"]
[null,null,null,null,null,null,"EBI oder TZW?*"]
[null,null,null,null,null,null,"Allgemeinkostenzuschlag \nPersonal (in %)",null,null,null,"gem. Förderbestimmungen"]
[]
["Einzelkostensplan:",null,{"$f":"B1","v":"Partner 4"}]
["Personalkosten",{"$f":"C34","v":0},null,"Erläuterung zum Einzelkostenplan:"]
["Personenmonate \n(PM Wiss. MA)",{"$f":"D27+E27+F27+G27+H27+I27+J27+K27+L27+M27+D28+E28+F28+G28+H28+I28+J28+K28+L28+M28","v":0}]
["Allgemeinkostenzuschlag Personal (gem. Förderbestimmung)",{"$f":"B7*J4/100","v":0}]
["Sachkosten",{"$f":"C49","v":0}]
["Reisekosten",{"$f":"C94","v":0}]
["Fremdleistungen",{"$f":"C64","v":0}]
["Sonstige Kosten",{"$f":"C79","v":0}]
["Gesamtkosten netto",{"$f":"B7+B9+B10+B11+B12+B13","v":0}]
["Umsatzsteuer",{"$f":"B14*J2","v":0}]
["Gesamtkosten brutto",{"$f":"B14+B15","v":0}]
[]
["Drittmittel \n(öffentliche Zuwendung)",{"$f":"C100*-1","v":0}]
["Eigenanteil \n(Forschungsnehmer)",{"$f":"C105*-1","v":0}]
["finanzielle Beteiligung \n(Industrie/ Verbände/ Versorger)",{"$f":"C115*-1","v":0}]
["DVGW-Förderung",{"$f":"B16+B18+B19+B20","v":0}]
[]
[]
["Personalkosten"]
["Personengruppe \n(m/w/d)","Arbeitsgeberbrutto \n(Monat) **","Summe \nPersonalkosten","  Personenmonate"]
[null,null,null,"AP 1","AP 2","AP 3","AP 4","AP 5","AP 6","AP 7","AP 8","AP 9","AP 10"]
["Wissenschaftler MA\nProjektmanager/-leiter",null,{"$f":"B27* (D27+E27+F27+G27+H27+I27+J27+K27+L27+M27)","v":0}]
["Wissenschaftler*in",null,0]
["Techniker*in",null,0]
["Laborant*in",null,0]
["Hilfskraft",null,0]
["Personengruppe",null,0]
["Personengruppe",null,0]
["Summe Personalkosten:",null,{"$f":"C27+C28+C29+C30+C31+C32+C33","v":0},"** siehe Hinweise zum Ausfüllen"]
[]
[]
["Sachkosten"]
["Sachmittel ",null,"Summe \nSachkosten","  Personenmoate"]
[null,null,null,"AP 1","AP 2","AP 3","AP 4","AP 5","AP 6","AP 7","AP 8","AP 9","AP 10"]
["Sachmittel (bitte benennen)",null,{"$f":"D40+E40+F40+G40+H40+I40+J40+K40+L40+M40","v":0},0,0,0,0,0,0,0,0,0,0]
["Sachmittel (bitte benennen)",null,0,0,0,0,0,0,0,0,0,0,0]
["Sachmittel (bitte benennen)",null,0,0,0,0,0,0,0,0,0,0,0]
["Sachmittel (bitte benennen)",null,0,0,0,0,0,0,0,0,0,0,0]
["Sachmittel (bitte benennen)",null,0,0,0,0,0,0,0,0,0,0,0]
["Sachmittel (bitte benennen)",null,0,0,0,0,0,0,0,0,0,0,0]
["Sachmittel (bitte benennen)",null,0,0,0,0,0,0,0,0,0,0,0]
["Sachmittel (bitte benennen)",null,0,0,0,0,0,0,0,0,0,0,0]
["Sachmittel (bitte benennen)",null,0,0,0,0,0,0,0,0,0,0,0]
["Summe Sachkosten:",null,{"$f":"C40+C41+C42+C43+C44+C45+C46+C47+C48","v":0}]
[]
[]
["Unterauftrag"]
["Unterauftragsnehmer","Art der Dienstleitung","Summe \nUnterauftrag"]
[null,null,null,"AP 1","AP 2","AP 3","AP 4","AP 5","AP 6","AP 7","AP 8","AP 9","AP 10"]
["(bitte benennen)","(bitte benennen)",{"$f":"D55+E55+F55+G55+H55+I55+J55+K55+L55+M55","v":0},0,0,0,0,0,0,0,0,0,0]
["(bitte benennen)","(bitte benennen)",0,0,0,0,0,0,0,0,0,0,0]
["(bitte benennen)","(bitte benennen)",0,0,0,0,0,0,0,0,0,0,0]
["(bitte benennen)","(bitte benennen)",0,0,0,0,0,0,0,0,0,0,0]
["(bitte benennen)","(bitte benennen)",0,0,0,0,0,0,0,0,0,0,0]
["(bitte benennen)","(bitte benennen)",0,0,0,0,0,0,0,0,0,0,0]
["(bitte benennen)","(bitte benennen)",0,0,0,0,0,0,0,0,0,0,0]
["(bitte benennen)","(bitte benennen)",0,0,0,0,0,0,0,0,0,0,0]
["(bitte benennen)","(bitte benennen)",0,0,0,0,0,0,0,0,0,0,0]
["Summe Unterauftrag:",null,{"$f":"C55+C56+C57+C58+C59+C60+C61+C62+C63","v":0}]
[]
[]
["Sonstige Kosten"]
[null,null,"Summe \nSonstige Kosten"]
[null,null,null,"AP 1","AP 2","AP 3","AP 4","AP 5","AP 6","AP 7","AP 8","AP 9","AP 10"]
["(bitte benennen)",null,{"$f":"D70+E70+F70+G70+H70+I70+J70+K70+L70+M70","v":0},0,0,0,0,0,0,0,0,0,0]
["(bitte benennen)",null,{"$f":"D71+E71+F71+G71+H71+I71+J71+K71+L71+M71","v":0},0,0,0,0,0,0,0,0,0,0]
["(bitte benennen)",null,0,0,0,0,0,0,0,0,0,0,0]
["(bitte benennen)",null,0,0,0,0,0,0,0,0,0,0,0]
["(bitte benennen)",null,0,0,0,0,0,0,0,0,0,0,0]
["(bitte benennen)",null,0,0,0,0,0,0,0,0,0,0,0]
["(bitte benennen)",null,0,0,0,0,0,0,0,0,0,0,0]
["(bitte benennen)",null,0,0,0,0,0,0,0,0,0,0,0]
["(bitte benennen)",null,0,0,0,0,0,0,0,0,0,0,0]
["Summe Sonstige Kosten:",null,{"$f":"C70+C71+C72+C73+C74+C75+C76+C77+C78","v":0}]
[]
[]
["Reisekosten"]
[null,null,"€"]
[]
["(bitte benennen)",null,0]
["(bitte benennen)",null,0]
["(bitte benennen)",null,0]
["(bitte benennen)",null,0]
["(bitte benennen)",null,0]
["(bitte benennen)",null,0]
["(bitte benennen)",null,0]
["(bitte benennen)",null,0]
["(bitte benennen)",null,0]
["Summe Reisekosten:",null,{"$f":"C85+C86+C87+C88+C89+C90+C91+C92+C93","v":0}]
[]
[]
["Drittmittel (öffentliche Zuwendung)"]
["Beschreibung "]
[]
["Betrag gem. Zuwendungsbescheid",null,0]
[]
["Eigenleistung (Forschungsnehmer)"]
["Beschreibung "]
[]
["Betrag Eigenleistung",null,0]
[]
["finanzielle Beteiligung (Industrie/Verbände/Versorger)"]
["Art","Unterstützer","€","Beschreibung"]
["Art der Beteiligung"]
["Art der Beteiligung"]
["Art der Beteiligung"]
["Art der Beteiligung"]
["Art der Beteiligung"]
["Art der Beteiligung"]
["Betrag Eigenleistung",null,{"$f":"C109+C110+C111+C112+C113+C114","v":0}]
[]
["Art der Beteiligung"]
["Geldleistung"]
["Sachmittel"]
["Dienstleistung"]

{"sheet":"Partner 5","index":7,"n_rows":120,"n_cols":13,"rows_kept":120,"cut":false,"hidden":false,"merged":[[0,6,0,8],[1,6,1,8],[2,6,2,8],[3,6,3,8],[5,0,5,1],[5,2,5,12],[24,1,25,1],[24,2,25,2],[24,3,24,12],[33,3,33,12],[36,0,36,12],[24,0,25,0],[37,2,38,2],[37,3,37,12],[39,0,39,1],[40,0,40,1],[41,0,41,1],[42,0,42,1],[43,0,43,1],[44,0,44,1],[45,0,45,1],[46,0,46,1],[47,0,47,1],[51,0,51,12],[52,2,53,2],[52,3,52,12],[66,0,66,12],[67,0,68,1],[67,2,68,2],[67,3,67,12],[69,0,69,1],[70,0,70,1],[71,0,71,1],[72,0,72,1],[73,0,73,1],[74,0,74,1],[75,0,75,1],[76,0,76,1],[77,0,77,1],[82,0,83,1],[82,2,83,2],[84,0,84,1],[91,0,91,1],[92,0,92,1],[96,0,96,2],[97,0,97,2],[85,0,85,1],[86,0,86,1],[87,0,87,1],[88,0,88,1],[89,0,89,1],[112,3,112,6],[113,3,113,6],[6,3,6,12],[7,3,20,12],[107,3,107,6],[108,3,108,6],[109,3,109,6],[110,3,110,6],[111,3,111,6],[23,0,23,12],[98,0,98,2],[101,0,101,2],[102,0,102,2],[103,0,103,2],[106,0,106,6],[90,0,90,1]]}
["Projektpartner 5","Partner 5",null,null,null,null,"Umsatzsteuerpflichtig*",null,null,null,"*verpflichtend, bitte auswählen"]
[null,null,null,null,null,null,"Umsatzsteuersatz*"]
[null,null,null,null,null,null,"EBI oder TZW?*"]
[null,null,null,null,null,null,"Allgemeinkostenzuschlag \nPersonal (in %)",null,null,null,"gem. Förderbestimmungen"]
[]
["Einzelkostensplan:",null,{"$f":"B1","v":"Partner 5"}]
["Personalkosten",{"$f":"C34","v":0},null,"Erläuterung zum Einzelkostenplan:"]
["Personenmonate \n(PM Wiss. MA)",{"$f":"D27+E27+F27+G27+H27+I27+J27+K27+L27+M27+D28+E28+F28+G28+H28+I28+J28+K28+L28+M28","v":0}]
["Allgemeinkostenzuschlag Personal (gem. Förderbestimmung)",{"$f":"B7*J4/100","v":0}]
["Sachkosten",{"$f":"C49","v":0}]
["Reisekosten",{"$f":"C94","v":0}]
["Fremdleistungen",{"$f":"C64","v":0}]
["Sonstige Kosten",{"$f":"C79","v":0}]
["Gesamtkosten netto",{"$f":"B7+B9+B10+B11+B12+B13","v":0}]
["Umsatzsteuer",{"$f":"B14*J2","v":0}]
["Gesamtkosten brutto",{"$f":"B14+B15","v":0}]
[]
["Drittmittel \n(öffentliche Zuwendung)",{"$f":"C100*-1","v":0}]
["Eigenanteil \n(Forschungsnehmer)",{"$f":"C105*-1","v":0}]
["finanzielle Beteiligung \n(Industrie/ Verbände/ Versorger)",{"$f":"C115*-1","v":0}]
["DVGW-Förderung",{"$f":"B16+B18+B19+B20","v":0}]
[]
[]
["Personalkosten"]
["Personengruppe \n(m/w/d)","Arbeitsgeberbrutto \n(Monat) **","Summe \nPersonalkosten","  Personenmonate"]
[null,null,null,"AP 1","AP 2","AP 3","AP 4","AP 5","AP 6","AP 7","AP 8","AP 9","AP 10"]
["Wissenschaftler MA\nProjektmanager/-leiter",null,{"$f":"B27* (D27+E27+F27+G27+H27+I27+J27+K27+L27+M27)","v":0}]
["Wissenschaftler*in",null,0]
["Techniker*in",null,0]
["Laborant*in",null,0]
["Hilfskraft",null,0]
["Personengruppe",null,0]
["Personengruppe",null,0]
["Summe Personalkosten:",null,{"$f":"C27+C28+C29+C30+C31+C32+C33","v":0},"** siehe Hinweise zum Ausfüllen"]
[]
[]
["Sachkosten"]
["Sachmittel ",null,"Summe \nSachkosten","  Personenmoate"]
[null,null,null,"AP 1","AP 2","AP 3","AP 4","AP 5","AP 6","AP 7","AP 8","AP 9","AP 10"]
["Sachmittel (bitte benennen)",null,{"$f":"D40+E40+F40+G40+H40+I40+J40+K40+L40+M40","v":0},0,0,0,0,0,0,0,0,0,0]
["Sachmittel (bitte benennen)",null,0,0,0,0,0,0,0,0,0,0,0]
["Sachmittel (bitte benennen)",null,0,0,0,0,0,0,0,0,0,0,0]
["Sachmittel (bitte benennen)",null,0,0,0,0,0,0,0,0,0,0,0]
["Sachmittel (bitte benennen)",null,0,0,0,0,0,0,0,0,0,0,0]
["Sachmittel (bitte benennen)",null,0,0,0,0,0,0,0,0,0,0,0]
["Sachmittel (bitte benennen)",null,0,0,0,0,0,0,0,0,0,0,0]
["Sachmittel (bitte benennen)",null,0,0,0,0,0,0,0,0,0,0,0]
["Sachmittel (bitte benennen)",null,0,0,0,0,0,0,0,0,0,0,0]
["Summe Sachkosten:",null,{"$f":"C40+C41+C42+C43+C44+C45+C46+C47+C48","v":0}]
[]
[]
["Unterauftrag"]
["Unterauftragsnehmer","Art der Dienstleitung","Summe \nUnterauftrag"]
[null,null,null,"AP 1","AP 2","AP 3","AP 4","AP 5","AP 6","AP 7","AP 8","AP 9","AP 10"]
["(bitte benennen)","(bitte benennen)",{"$f":"D55+E55+F55+G55+H55+I55+J55+K55+L55+M55","v":0},0,0,0,0,0,0,0,0,0,0]
["(bitte benennen)","(bitte benennen)",0,0,0,0,0,0,0,0,0,0,0]
["(bitte benennen)","(bitte benennen)",0,0,0,0,0,0,0,0,0,0,0]
["(bitte benennen)","(bitte benennen)",0,0,0,0,0,0,0,0,0,0,0]
["(bitte benennen)","(bitte benennen)",0,0,0,0,0,0,0,0,0,0,0]
["(bitte benennen)","(bitte benennen)",0,0,0,0,0,0,0,0,0,0,0]
["(bitte benennen)","(bitte benennen)",0,0,0,0,0,0,0,0,0,0,0]
["(bitte benennen)","(bitte benennen)",0,0,0,0,0,0,0,0,0,0,0]
["(bitte benennen)","(bitte benennen)",0,0,0,0,0,0,0,0,0,0,0]
["Summe Unterauftrag:",null,{"$f":"C55+C56+C57+C58+C59+C60+C61+C62+C63","v":0}]
[]
[]
["Sonstige Kosten"]
[null,null,"Summe \nSonstige Kosten"]
[null,null,null,"AP 1","AP 2","AP 3","AP 4","AP 5","AP 6","AP 7","AP 8","AP 9","AP 10"]
["(bitte benennen)",null,{"$f":"D70+E70+F70+G70+H70+I70+J70+K70+L70+M70","v":0},0,0,0,0,0,0,0,0,0,0]
["(bitte benennen)",null,{"$f":"D71+E71+F71+G71+H71+I71+J71+K71+L71+M71","v":0},0,0,0,0,0,0,0,0,0,0]
["(bitte benennen)",null,0,0,0,0,0,0,0,0,0,0,0]
["(bitte benennen)",null,0,0,0,0,0,0,0,0,0,0,0]
["(bitte benennen)",null,0,0,0,0,0,0,0,0,0,0,0]
["(bitte benennen)",null,0,0,0,0,0,0,0,0,0,0,0]
["(bitte benennen)",null,0,0,0,0,0,0,0,0,0,0,0]
["(bitte benennen)",null,0,0,0,0,0,0,0,0,0,0,0]
["(bitte benennen)",null,0,0,0,0,0,0,0,0,0,0,0]
["Summe Sonstige Kosten:",null,{"$f":"C70+C71+C72+C73+C74+C75+C76+C77+C78","v":0}]
[]
[]
["Reisekosten"]
[null,null,"€"]
[]
["(bitte benennen)",null,0]
["(bitte benennen)",null,0]
["(bitte benennen)",null,0]
["(bitte benennen)",null,0]
["(bitte benennen)",null,0]
["(bitte benennen)",null,0]
["(bitte benennen)",null,0]
["(bitte benennen)",null,0]
["(bitte benennen)",null,0]
["Summe Reisekosten:",null,{"$f":"C85+C86+C87+C88+C89+C90+C91+C92+C93","v":0}]
[]
[]
["Drittmittel (öffentliche Zuwendung)"]
["Beschreibung "]
[]
["Betrag gem. Zuwendungsbescheid",null,0]
[]
["Eigenleistung (Forschungsnehmer)"]
["Beschreibung "]
[]
["Betrag Eigenleistung",null,0]
[]
["finanzielle Beteiligung (Industrie/Verbände/Versorger)"]
["Art","Unterstützer","€","Beschreibung"]
["Art der Beteiligung"]
["Art der Beteiligung"]
["Art der Beteiligung"]
["Art der Beteiligung"]
["Art der Beteiligung"]
["Art der Beteiligung"]
["Betrag Eigenleistung",null,{"$f":"C109+C110+C111+C112+C113+C114","v":0}]
[]
["Art der Beteiligung"]
["Geldleistung"]
["Sachmittel"]
["Dienstleistung"]

{"sheet":"Partner 6","index":8,"n_rows":120,"n_cols":13,"rows_kept":120,"cut":false,"hidden":false,"merged":[[0,6,0,8],[1,6,1,8],[2,6,2,8],[3,6,3,8],[5,0,5,1],[5,2,5,12],[24,1,25,1],[24,2,25,2],[24,3,24,12],[33,3,33,12],[36,0,36,12],[24,0,25,0],[37,2,38,2],[37,3,37,12],[39,0,39,1],[40,0,40,1],[41,0,41,1],[42,0,42,1],[43,0,43,1],[44,0,44,1],[45,0,45,1],[46,0,46,1],[47,0,47,1],[51,0,51,12],[52,2,53,2],[52,3,52,12],[66,0,66,12],[67,0,68,1],[67,2,68,2],[67,3,67,12],[69,0,69,1],[70,0,70,1],[71,0,71,1],[72,0,72,1],[73,0,73,1],[74,0,74,1],[75,0,75,1],[76,0,76,1],[77,0,77,1],[82,0,83,1],[82,2,83,2],[84,0,84,1],[91,0,91,1],[92,0,92,1],[96,0,96,2],[97,0,97,2],[85,0,85,1],[86,0,86,1],[87,0,87,1],[88,0,88,1],[89,0,89,1],[112,3,112,6],[113,3,113,6],[6,3,6,12],[7,3,20,12],[107,3,107,6],[108,3,108,6],[109,3,109,6],[110,3,110,6],[111,3,111,6],[23,0,23,12],[98,0,98,2],[101,0,101,2],[102,0,102,2],[103,0,103,2],[106,0,106,6],[90,0,90,1]]}
["Projektpartner 6","Partner 6",null,null,null,null,"Umsatzsteuerpflichtig*",null,null,null,"*verpflichtend, bitte auswählen"]
[null,null,null,null,null,null,"Umsatzsteuersatz*"]
[null,null,null,null,null,null,"EBI oder TZW?*"]
[null,null,null,null,null,null,"Allgemeinkostenzuschlag \nPersonal (in %)",null,null,null,"gem. Förderbestimmungen"]
[]
["Einzelkostensplan:",null,{"$f":"B1","v":"Partner 6"}]
["Personalkosten",{"$f":"C34","v":0},null,"Erläuterung zum Einzelkostenplan:"]
["Personenmonate \n(PM Wiss. MA)",{"$f":"D27+E27+F27+G27+H27+I27+J27+K27+L27+M27+D28+E28+F28+G28+H28+I28+J28+K28+L28+M28","v":0}]
["Allgemeinkostenzuschlag Personal (gem. Förderbestimmung)",{"$f":"B7*J4/100","v":0}]
["Sachkosten",{"$f":"C49","v":0}]
["Reisekosten",{"$f":"C94","v":0}]
["Fremdleistungen",{"$f":"C64","v":0}]
["Sonstige Kosten",{"$f":"C79","v":0}]
["Gesamtkosten netto",{"$f":"B7+B9+B10+B11+B12+B13","v":0}]
["Umsatzsteuer",{"$f":"B14*J2","v":0}]
["Gesamtkosten brutto",{"$f":"B14+B15","v":0}]
[]
["Drittmittel \n(öffentliche Zuwendung)",{"$f":"C100*-1","v":0}]
["Eigenanteil \n(Forschungsnehmer)",{"$f":"C105*-1","v":0}]
["finanzielle Beteiligung \n(Industrie/ Verbände/ Versorger)",{"$f":"C115*-1","v":0}]
["DVGW-Förderung",{"$f":"B16+B18+B19+B20","v":0}]
[]
[]
["Personalkosten"]
["Personengruppe \n(m/w/d)","Arbeitsgeberbrutto \n(Monat) **","Summe \nPersonalkosten","  Personenmonate"]
[null,null,null,"AP 1","AP 2","AP 3","AP 4","AP 5","AP 6","AP 7","AP 8","AP 9","AP 10"]
["Wissenschaftler MA\nProjektmanager/-leiter",null,{"$f":"B27* (D27+E27+F27+G27+H27+I27+J27+K27+L27+M27)","v":0}]
["Wissenschaftler*in",null,0]
["Techniker*in",null,0]
["Laborant*in",null,0]
["Hilfskraft",null,0]
["Personengruppe",null,0]
["Personengruppe",null,0]
["Summe Personalkosten:",null,{"$f":"C27+C28+C29+C30+C31+C32+C33","v":0},"** siehe Hinweise zum Ausfüllen"]
[]
[]
["Sachkosten"]
["Sachmittel ",null,"Summe \nSachkosten","  Personenmoate"]
[null,null,null,"AP 1","AP 2","AP 3","AP 4","AP 5","AP 6","AP 7","AP 8","AP 9","AP 10"]
["Sachmittel (bitte benennen)",null,{"$f":"D40+E40+F40+G40+H40+I40+J40+K40+L40+M40","v":0},0,0,0,0,0,0,0,0,0,0]
["Sachmittel (bitte benennen)",null,0,0,0,0,0,0,0,0,0,0,0]
["Sachmittel (bitte benennen)",null,0,0,0,0,0,0,0,0,0,0,0]
["Sachmittel (bitte benennen)",null,0,0,0,0,0,0,0,0,0,0,0]
["Sachmittel (bitte benennen)",null,0,0,0,0,0,0,0,0,0,0,0]
["Sachmittel (bitte benennen)",null,0,0,0,0,0,0,0,0,0,0,0]
["Sachmittel (bitte benennen)",null,0,0,0,0,0,0,0,0,0,0,0]
["Sachmittel (bitte benennen)",null,0,0,0,0,0,0,0,0,0,0,0]
["Sachmittel (bitte benennen)",null,0,0,0,0,0,0,0,0,0,0,0]
["Summe Sachkosten:",null,{"$f":"C40+C41+C42+C43+C44+C45+C46+C47+C48","v":0}]
[]
[]
["Unterauftrag"]
["Unterauftragsnehmer","Art der Dienstleitung","Summe \nUnterauftrag"]
[null,null,null,"AP 1","AP 2","AP 3","AP 4","AP 5","AP 6","AP 7","AP 8","AP 9","AP 10"]
["(bitte benennen)","(bitte benennen)",{"$f":"D55+E55+F55+G55+H55+I55+J55+K55+L55+M55","v":0},0,0,0,0,0,0,0,0,0,0]
["(bitte benennen)","(bitte benennen)",0,0,0,0,0,0,0,0,0,0,0]
["(bitte benennen)","(bitte benennen)",0,0,0,0,0,0,0,0,0,0,0]
["(bitte benennen)","(bitte benennen)",0,0,0,0,0,0,0,0,0,0,0]
["(bitte benennen)","(bitte benennen)",0,0,0,0,0,0,0,0,0,0,0]
["(bitte benennen)","(bitte benennen)",0,0,0,0,0,0,0,0,0,0,0]
["(bitte benennen)","(bitte benennen)",0,0,0,0,0,0,0,0,0,0,0]
["(bitte benennen)","(bitte benennen)",0,0,0,0,0,0,0,0,0,0,0]
["(bitte benennen)","(bitte benennen)",0,0,0,0,0,0,0,0,0,0,0]
["Summe Unterauftrag:",null,{"$f":"C55+C56+C57+C58+C59+C60+C61+C62+C63","v":0}]
[]
[]
["Sonstige Kosten"]
[null,null,"Summe \nSonstige Kosten"]
[null,null,null,"AP 1","AP 2","AP 3","AP 4","AP 5","AP 6","AP 7","AP 8","AP 9","AP 10"]
["(bitte benennen)",null,{"$f":"D70+E70+F70+G70+H70+I70+J70+K70+L70+M70","v":0},0,0,0,0,0,0,0,0,0,0]
["(bitte benennen)",null,{"$f":"D71+E71+F71+G71+H71+I71+J71+K71+L71+M71","v":0},0,0,0,0,0,0,0,0,0,0]
["(bitte benennen)",null,0,0,0,0,0,0,0,0,0,0,0]
["(bitte benennen)",null,0,0,0,0,0,0,0,0,0,0,0]
["(bitte benennen)",null,0,0,0,0,0,0,0,0,0,0,0]
["(bitte benennen)",null,0,0,0,0,0,0,0,0,0,0,0]
["(bitte benennen)",null,0,0,0,0,0,0,0,0,0,0,0]
["(bitte benennen)",null,0,0,0,0,0,0,0,0,0,0,0]
["(bitte benennen)",null,0,0,0,0,0,0,0,0,0,0,0]
["Summe Sonstige Kosten:",null,{"$f":"C70+C71+C72+C73+C74+C75+C76+C77+C78","v":0}]
[]
[]
["Reisekosten"]
[null,null,"€"]
[]
["(bitte benennen)",null,0]
["(bitte benennen)",null,0]
["(bitte benennen)",null,0]
["(bitte benennen)",null,0]
["(bitte benennen)",null,0]
["(bitte benennen)",null,0]
["(bitte benennen)",null,0]
["(bitte benennen)",null,0]
["(bitte benennen)",null,0]
["Summe Reisekosten:",null,{"$f":"C85+C86+C87+C88+C89+C90+C91+C92+C93","v":0}]
[]
[]
["Drittmittel (öffentliche Zuwendung)"]
["Beschreibung "]
[]
["Betrag gem. Zuwendungsbescheid",null,0]
[]
["Eigenleistung (Forschungsnehmer)"]
["Beschreibung "]
[]
["Betrag Eigenleistung",null,0]
[]
["finanzielle Beteiligung (Industrie/Verbände/Versorger)"]
["Art","Unterstützer","€","Beschreibung"]
["Art der Beteiligung"]
["Art der Beteiligung"]
["Art der Beteiligung"]
["Art der Beteiligung"]
["Art der Beteiligung"]
["Art der Beteiligung"]
["Betrag Eigenleistung",null,{"$f":"C109+C110+C111+C112+C113+C114","v":0}]
[]
["Art der Beteiligung"]
["Geldleistung"]
["Sachmittel"]
["Dienstleistung"]

{"sheet":"Musterbeispiel","index":9,"n_rows":120,"n_cols":13,"rows_kept":120,"cut":false,"hidden":false,"merged":[[110,3,110,6],[111,3,111,6],[112,3,112,6],[113,3,113,6],[102,0,102,2],[103,0,103,2],[106,0,106,6],[107,3,107,6],[108,3,108,6],[109,3,109,6],[82,2,83,2],[101,0,101,2],[85,0,85,1],[86,0,86,1],[87,0,87,1],[88,0,88,1],[89,0,89,1],[90,0,90,1],[91,0,91,1],[92,0,92,1],[96,0,96,2],[97,0,97,2],[98,0,98,2],[84,0,84,1],[69,0,69,1],[70,0,70,1],[71,0,71,1],[72,0,72,1],[73,0,73,1],[74,0,74,1],[75,0,75,1],[76,0,76,1],[77,0,77,1],[82,0,83,1],[67,0,68,1],[67,2,68,2],[67,3,67,12],[41,0,41,1],[42,0,42,1],[43,0,43,1],[44,0,44,1],[45,0,45,1],[46,0,46,1],[47,0,47,1],[51,0,51,12],[52,2,53,2],[52,3,52,12],[66,0,66,12],[40,0,40,1],[6,3,6,12],[7,3,20,12],[23,0,23,12],[24,0,25,0],[24,1,25,1],[24,2,25,2],[24,3,24,12],[33,3,33,12],[36,0,36,12],[37,2,38,2],[37,3,37,12],[39,0,39,1],[0,6,0,8],[1,6,1,8],[2,6,2,8],[3,6,3,8],[5,0,5,1],[5,2,5,12]]}
["Musterbeispiel","Muster",null,null,null,null,"Umsatzsteuerpflichtig*",null,null,"Nein","*verpflichtend, bitte auswählen"]
[null,null,null,null,null,null,"Umsatzsteuersatz*"]
[null,null,null,null,null,null,"EBI oder TZW?*"]
[null,null,null,null,null,null,"Allgemeinkostenzuschlag \nPersonal (in %)",null,null,20,"gem. Förderbestimmungen"]
[]
["Einzelkostensplan:",null,{"$f":"B1","v":"Muster"}]
["Personalkosten",{"$f":"C34","v":102450},null,"Erläuterung zum Einzelkostenplan:"]
["Personenmonate \n(PM Wiss. MA)",{"$f":"D27+E27+F27+G27+H27+I27+J27+K27+L27+M27+D28+E28+F28+G28+H28+I28+J28+K28+L28+M28","v":10}]
["Allgemeinkostenzuschlag Personal (gem. Förderbestimmung)",{"$f":"B7*J4/100","v":20490}]
["Sachkosten",{"$f":"C49","v":12850}]
["Reisekosten",{"$f":"C94","v":500}]
["Fremdleistungen",{"$f":"C64","v":3600}]
["Sonstige Kosten",{"$f":"C79","v":3450}]
["Gesamtkosten netto",{"$f":"B7+B9+B10+B11+B12+B13","v":143340}]
["Umsatzsteuer",{"$f":"B14*J2","v":0}]
["Gesamtkosten brutto",{"$f":"B14+B15","v":143340}]
[]
["Drittmittel \n(öffentliche Zuwendung)",{"$f":"C100*-1","v":0}]
["Eigenanteil \n(Forschungsnehmer)",{"$f":"C105*-1","v":-3450}]
["finanzielle Beteiligung \n(Industrie/ Verbände/ Versorger)",{"$f":"C115*-1","v":-27000}]
["DVGW-Förderung",{"$f":"B16+B18+B19+B20","v":112890}]
[]
[]
["Personalkosten"]
["Personengruppe \n(m/w/d)","Arbeitsgeberbrutto \n(Monat) **","Summe \nPersonalkosten","  Personenmonate"]
[null,null,null,"AP 1","AP 2","AP 3","AP 4","AP 5","AP 6","AP 7","AP 8","AP 9","AP 10"]
["Wissenschaftler MA\nProjektmanager/-leiter",9200,{"$f":"B27* (D27+E27+F27+G27+H27+I27+J27+K27+L27+M27)","v":41400},1,0.5,2,1]
["Wissenschaftler*in",8100,44550,1,1,3,0.5]
["Techniker*in",5800,5800,null,null,1]
["Laborant*in",5350,10700,null,null,2]
["Hilfskraft",null,0]
["Personengruppe",null,0]
["Personengruppe",null,0]
["Summe Personalkosten:",null,{"$f":"C27+C28+C29+C30+C31+C32+C33","v":102450},"** siehe Hinweise zum Ausfüllen / "]
[]
[]
["Sachkosten"]
["Sachmittel ",null,"Summe \nSachkosten","  Personenmoate"]
[null,null,null,"AP 1","AP 2","AP 3","AP 4","AP 5","AP 6","AP 7","AP 8","AP 9","AP 10"]
["Flockungsmittel",null,{"$f":"D40+E40+F40+G40+H40+I40+J40+K40+L40+M40","v":2500},0,2500,0,0,0,0,0,0,0,0]
["Wasserstoff ",null,10350,0,0,10350,0,0,0,0,0,0,0]
["Sachmittel (bitte benennen)",null,0,0,0,0,0,0,0,0,0,0,0]
["Sachmittel (bitte benennen)",null,0,0,0,0,0,0,0,0,0,0,0]
["Sachmittel (bitte benennen)",null,0,0,0,0,0,0,0,0,0,0,0]
["Sachmittel (bitte benennen)",null,0,0,0,0,0,0,0,0,0,0,0]
["Sachmittel (bitte benennen)",null,0,0,0,0,0,0,0,0,0,0,0]
["Sachmittel (bitte benennen)",null,0,0,0,0,0,0,0,0,0,0,0]
["Sachmittel (bitte benennen)",null,0,0,0,0,0,0,0,0,0,0,0]
["Summe Sachkosten:",null,{"$f":"C40+C41+C42+C43+C44+C45+C46+C47+C48","v":12850}]
[]
[]
["Unterauftrag"]
["Unterauftragsnehmer","Art der Dienstleitung","Summe \nUnterauftrag"]
[null,null,null,"AP 1","AP 2","AP 3","AP 4","AP 5","AP 6","AP 7","AP 8","AP 9","AP 10"]
["Fa. Mustermann","Durchführung Versuche",{"$f":"D55+E55+F55+G55+H55+I55+J55+K55+L55+M55","v":3600},0,0,3600,0,0,0,0,0,0,0]
["(bitte benennen)","(bitte benennen)",0,0,0,0,0,0,0,0,0,0,0]
["(bitte benennen)","(bitte benennen)",0,0,0,0,0,0,0,0,0,0,0]
["(bitte benennen)","(bitte benennen)",0,0,0,0,0,0,0,0,0,0,0]
["(bitte benennen)","(bitte benennen)",0,0,0,0,0,0,0,0,0,0,0]
["(bitte benennen)","(bitte benennen)",0,0,0,0,0,0,0,0,0,0,0]
["(bitte benennen)","(bitte benennen)",0,0,0,0,0,0,0,0,0,0,0]
["(bitte benennen)","(bitte benennen)",0,0,0,0,0,0,0,0,0,0,0]
["(bitte benennen)","(bitte benennen)",0,0,0,0,0,0,0,0,0,0,0]
["Summe Unterauftrag:",null,{"$f":"C55+C56+C57+C58+C59+C60+C61+C62+C63","v":3600}]
[]
[]
["Sonstige Kosten"]
[null,null,"Summe \nSonstige Kosten"]
[null,null,null,"AP 1","AP 2","AP 3","AP 4","AP 5","AP 6","AP 7","AP 8","AP 9","AP 10"]
["Durchführung eines Workshops mit Versorgungsunternehmen",null,{"$f":"D70+E70+F70+G70+H70+I70+J70+K70+L70+M70","v":3450},0,0,3450,0,0,0,0,0,0,0]
["(bitte benennen)",null,{"$f":"D71+E71+F71+G71+H71+I71+J71+K71+L71+M71","v":0},0,0,0,0,0,0,0,0,0,0]
["(bitte benennen)",null,0,0,0,0,0,0,0,0,0,0,0]
["(bitte benennen)",null,0,0,0,0,0,0,0,0,0,0,0]
["(bitte benennen)",null,0,0,0,0,0,0,0,0,0,0,0]
["(bitte benennen)",null,0,0,0,0,0,0,0,0,0,0,0]
["(bitte benennen)",null,0,0,0,0,0,0,0,0,0,0,0]
["(bitte benennen)",null,0,0,0,0,0,0,0,0,0,0,0]
["(bitte benennen)",null,0,0,0,0,0,0,0,0,0,0,0]
["Summe Sonstige Kosten:",null,{"$f":"C70+C71+C72+C73+C74+C75+C76+C77+C78","v":3450}]
[]
[]
["Reisekosten"]
[null,null,"€"]
[]
["Versuchsbegleitung bei Fa. Mustermann",null,500]
["(bitte benennen)",null,0]
["(bitte benennen)",null,0]
["(bitte benennen)",null,0]
["(bitte benennen)",null,0]
["(bitte benennen)",null,0]
["(bitte benennen)",null,0]
["(bitte benennen)",null,0]
["(bitte benennen)",null,0]
["Summe Reisekosten:",null,{"$f":"C85+C86+C87+C88+C89+C90+C91+C92+C93","v":500}]
[]
[]
["Drittmittel (öffentliche Zuwendung)"]
["Beschreibung "]
[]
["Betrag gem. Zuwendungsbescheid",null,0]
[]
["Eigenleistung (Forschungsnehmer)"]
["Beschreibung "]
["Die Durchführung des Workshops mit Versorgungsunternehmen ist Eigenleistung"]
["Betrag Eigenleistung",null,3450]
[]
["finanzielle Beteiligung (Industrie/Verbände/Versorger)"]
["Art","Unterstützer","€","Beschreibung"]
["Sachmittel","Fa. Wasserstoff GmbH",5000,"Wasserstoff 500 kg (AP 3)"]
["Dienstleistung","FA. Mustermann",2000,"Rabatt Versuchsdurchführung"]
["Geldleistung","Fa.xx",20000,"Unterstützung Projekt"]
["Art der Beteiligung"]
["Art der Beteiligung"]
["Art der Beteiligung"]
["Betrag Eigenleistung",null,{"$f":"C109+C110+C111+C112+C113+C114","v":27000}]
[]
["Art der Beteiligung"]
["Geldleistung"]
["Sachmittel"]
["Dienstleistung"]